BEGIN:VCALENDAR
VERSION:2.0
PRODID:-//Scuf - ECPv6.15.11//NONSGML v1.0//EN
CALSCALE:GREGORIAN
METHOD:PUBLISH
X-WR-CALNAME:Scuf
X-ORIGINAL-URL:https://www.scuf.se
X-WR-CALDESC:Händelser för Scuf
REFRESH-INTERVAL;VALUE=DURATION:PT1H
X-Robots-Tag:noindex
X-PUBLISHED-TTL:PT1H
BEGIN:VTIMEZONE
TZID:Europe/Paris
BEGIN:DAYLIGHT
TZOFFSETFROM:+0100
TZOFFSETTO:+0200
TZNAME:CEST
DTSTART:20230326T010000
END:DAYLIGHT
BEGIN:STANDARD
TZOFFSETFROM:+0200
TZOFFSETTO:+0100
TZNAME:CET
DTSTART:20231029T010000
END:STANDARD
BEGIN:DAYLIGHT
TZOFFSETFROM:+0100
TZOFFSETTO:+0200
TZNAME:CEST
DTSTART:20240331T010000
END:DAYLIGHT
BEGIN:STANDARD
TZOFFSETFROM:+0200
TZOFFSETTO:+0100
TZNAME:CET
DTSTART:20241027T010000
END:STANDARD
BEGIN:DAYLIGHT
TZOFFSETFROM:+0100
TZOFFSETTO:+0200
TZNAME:CEST
DTSTART:20250330T010000
END:DAYLIGHT
BEGIN:STANDARD
TZOFFSETFROM:+0200
TZOFFSETTO:+0100
TZNAME:CET
DTSTART:20251026T010000
END:STANDARD
END:VTIMEZONE
BEGIN:VEVENT
DTSTART;TZID=Europe/Paris:20240310T090000
DTEND;TZID=Europe/Paris:20240310T090000
DTSTAMP:20260421T230412
CREATED:20240226T092431Z
LAST-MODIFIED:20240226T092431Z
UID:16621-1710061200-1710061200@www.scuf.se
SUMMARY:Årsmöte med SCUF Syd
DESCRIPTION:Hej medlemmar! \nNu har SCUF Syd äntligen börjat komma igång igen och årsmötet närmar sig. Årsmötet kommer att hållas digitalt den 10/3 kl 09:00. Alla medlemmar är välkomna att delta och om du vill vara med så mailar du oss på syd@scuf.se så skickar vi ut dagordning och handlingar till dig. Du kommer även att få en länk utskickad vid mötesdagen. \nVad? SCUF Syd:s årsmöte\nNär? 10/3 kl 09:00\nVar? Zoom \nHoppas att vi ses! \nMed vänliga hälsningar\,\nStyrelsen
URL:https://www.scuf.se/event/arsmote-med-scuf-syd/
LOCATION:Zoom
ATTACH;FMTTYPE=image/png:https://www.scuf.se/wp-content/uploads/2024/02/forbundsarsmote.png
ORGANIZER;CN="SCUF Syd":MAILTO:syd@scuf.se
END:VEVENT
END:VCALENDAR