BEGIN:VCALENDAR
VERSION:2.0
PRODID:-//Scuf - ECPv6.15.11//NONSGML v1.0//EN
CALSCALE:GREGORIAN
METHOD:PUBLISH
X-WR-CALNAME:Scuf
X-ORIGINAL-URL:https://www.scuf.se
X-WR-CALDESC:Händelser för Scuf
REFRESH-INTERVAL;VALUE=DURATION:PT1H
X-Robots-Tag:noindex
X-PUBLISHED-TTL:PT1H
BEGIN:VTIMEZONE
TZID:Europe/Paris
BEGIN:DAYLIGHT
TZOFFSETFROM:+0100
TZOFFSETTO:+0200
TZNAME:CEST
DTSTART:20230326T010000
END:DAYLIGHT
BEGIN:STANDARD
TZOFFSETFROM:+0200
TZOFFSETTO:+0100
TZNAME:CET
DTSTART:20231029T010000
END:STANDARD
BEGIN:DAYLIGHT
TZOFFSETFROM:+0100
TZOFFSETTO:+0200
TZNAME:CEST
DTSTART:20240331T010000
END:DAYLIGHT
BEGIN:STANDARD
TZOFFSETFROM:+0200
TZOFFSETTO:+0100
TZNAME:CET
DTSTART:20241027T010000
END:STANDARD
BEGIN:DAYLIGHT
TZOFFSETFROM:+0100
TZOFFSETTO:+0200
TZNAME:CEST
DTSTART:20250330T010000
END:DAYLIGHT
BEGIN:STANDARD
TZOFFSETFROM:+0200
TZOFFSETTO:+0100
TZNAME:CET
DTSTART:20251026T010000
END:STANDARD
END:VTIMEZONE
BEGIN:VEVENT
DTSTART;TZID=Europe/Paris:20240312T183000
DTEND;TZID=Europe/Paris:20240312T183000
DTSTAMP:20260422T032726
CREATED:20240221T135755Z
LAST-MODIFIED:20240221T135755Z
UID:16615-1710268200-1710268200@www.scuf.se
SUMMARY:Årsmöte med SCUF Väst
DESCRIPTION:Nu är det dags för medlemsföreningsårsmöte. Årsmötet kommer att hållas digitalt via Zoom Tisdagen den 12 Mars 18:30. Eftersom det är digitalt så hoppas vi att så många som möjligt kan vara med. På årsmötet kommer vi gå igenom det gångna året och välja styrelse samt kommer verksamhetsplanen och budgeten för 2024 fastlås. \nVAD? Medlemsföreningsårsmöte\nNÄR? Tisdagen den 12 Mars 18:30\nVAR? Digitalt via Zoom\nANMÄLAN? Via länken nedan\, senast 4 Mars. \nBra att veta inför medlemsföreningsårsmötet: \nDu behöver ha internetuppkoppling och en dator/iPad/smartphone för att kunna delta. Länken till mötet kommer att skickas ut till samtliga anmälda. Dagordningen finns tillgänglig. Hör av er på vast@scuf.se om ni vill ta del av dagordningen. \nDet är medlemmarna som gör SCUF\, så hoppas att vi “ses”! \nVarmt välkomna med er anmälan! \nTill anmälan
URL:https://www.scuf.se/event/arsmote-med-scuf-vast/
LOCATION:Zoom
ATTACH;FMTTYPE=image/png:https://www.scuf.se/wp-content/uploads/2024/02/forbundsarsmote-webb.png
ORGANIZER;CN="SCUF V%C3%A4st":MAILTO:vast@scuf.se
END:VEVENT
END:VCALENDAR