BEGIN:VCALENDAR
VERSION:2.0
PRODID:-//Scuf - ECPv6.15.11//NONSGML v1.0//EN
CALSCALE:GREGORIAN
METHOD:PUBLISH
X-WR-CALNAME:Scuf
X-ORIGINAL-URL:https://www.scuf.se
X-WR-CALDESC:Händelser för Scuf
REFRESH-INTERVAL;VALUE=DURATION:PT1H
X-Robots-Tag:noindex
X-PUBLISHED-TTL:PT1H
BEGIN:VTIMEZONE
TZID:Europe/Paris
BEGIN:DAYLIGHT
TZOFFSETFROM:+0100
TZOFFSETTO:+0200
TZNAME:CEST
DTSTART:20230326T010000
END:DAYLIGHT
BEGIN:STANDARD
TZOFFSETFROM:+0200
TZOFFSETTO:+0100
TZNAME:CET
DTSTART:20231029T010000
END:STANDARD
BEGIN:DAYLIGHT
TZOFFSETFROM:+0100
TZOFFSETTO:+0200
TZNAME:CEST
DTSTART:20240331T010000
END:DAYLIGHT
BEGIN:STANDARD
TZOFFSETFROM:+0200
TZOFFSETTO:+0100
TZNAME:CET
DTSTART:20241027T010000
END:STANDARD
BEGIN:DAYLIGHT
TZOFFSETFROM:+0100
TZOFFSETTO:+0200
TZNAME:CEST
DTSTART:20250330T010000
END:DAYLIGHT
BEGIN:STANDARD
TZOFFSETFROM:+0200
TZOFFSETTO:+0100
TZNAME:CET
DTSTART:20251026T010000
END:STANDARD
END:VTIMEZONE
BEGIN:VEVENT
DTSTART;TZID=Europe/Paris:20240314T180000
DTEND;TZID=Europe/Paris:20240314T183000
DTSTAMP:20260422T073836
CREATED:20240301T085112Z
LAST-MODIFIED:20240301T085112Z
UID:16625-1710439200-1710441000@www.scuf.se
SUMMARY:Årsmöte SCUF Västerbotten
DESCRIPTION:Hej kära medlemmar! \nSCUF Västerbotten har nu legat vilande i ett par år. Under den tiden har vi försökt hitta nya engagerade som skulle vilja ta över men tyvärr utan lycka. Här kallas då till årsmöte för SCUF Västerbotten för att avveckla föreningen. Detta för att enklare ge plats till nya eldsjälar\, om de vill starta en ny SCUF Norr. Om det är du får du gärna höra av dig till oss! \nTid: 14/3 kl. 18-18.30.\nPlats: Zoom \nHandlingar finns att tillgå. Kontakta då oss.
URL:https://www.scuf.se/event/arsmote-scuf-vasterbotten/
LOCATION:Zoom
ATTACH;FMTTYPE=image/png:https://www.scuf.se/wp-content/uploads/2024/03/8-medlemmar.png
ORGANIZER;CN="SCUF V%C3%A4sterbotten":MAILTO:vasterbotten@scuf.se
END:VEVENT
END:VCALENDAR