BEGIN:VCALENDAR
VERSION:2.0
PRODID:-//Scuf - ECPv6.15.11//NONSGML v1.0//EN
CALSCALE:GREGORIAN
METHOD:PUBLISH
X-WR-CALNAME:Scuf
X-ORIGINAL-URL:https://www.scuf.se
X-WR-CALDESC:Händelser för Scuf
REFRESH-INTERVAL;VALUE=DURATION:PT1H
X-Robots-Tag:noindex
X-PUBLISHED-TTL:PT1H
BEGIN:VTIMEZONE
TZID:Europe/Paris
BEGIN:DAYLIGHT
TZOFFSETFROM:+0100
TZOFFSETTO:+0200
TZNAME:CEST
DTSTART:20230326T010000
END:DAYLIGHT
BEGIN:STANDARD
TZOFFSETFROM:+0200
TZOFFSETTO:+0100
TZNAME:CET
DTSTART:20231029T010000
END:STANDARD
BEGIN:DAYLIGHT
TZOFFSETFROM:+0100
TZOFFSETTO:+0200
TZNAME:CEST
DTSTART:20240331T010000
END:DAYLIGHT
BEGIN:STANDARD
TZOFFSETFROM:+0200
TZOFFSETTO:+0100
TZNAME:CET
DTSTART:20241027T010000
END:STANDARD
BEGIN:DAYLIGHT
TZOFFSETFROM:+0100
TZOFFSETTO:+0200
TZNAME:CEST
DTSTART:20250330T010000
END:DAYLIGHT
BEGIN:STANDARD
TZOFFSETFROM:+0200
TZOFFSETTO:+0100
TZNAME:CET
DTSTART:20251026T010000
END:STANDARD
END:VTIMEZONE
BEGIN:VEVENT
DTSTART;VALUE=DATE:20240221
DTEND;VALUE=DATE:20240315
DTSTAMP:20260421T191033
CREATED:20240221T101922Z
LAST-MODIFIED:20240313T115814Z
UID:16598-1708473600-1710460799@www.scuf.se
SUMMARY:Bli lägerledare för SCUF:s sommarläger
DESCRIPTION:Var med och skapa härliga sommarminnen på SCUF:s sommarläger för barn och unga mellan 7 och 17 år. Ett glutenfritt sommarläger där barn och unga med celiaki kan träffas\, dela erfarenheter och ha kul! \nSom ledare är du del av ett starkt och positivt ledarteam. Vi söker nu kreativa och nyfikna personer mellan 18 och 29 år som vill vara lägerledare! Det krävs inga förkunskaper utan du kommer få utbildning och värdefulla erfarenheter. Rollen som lägerledare och huvudledare är arvoderad och tjänstgöringsintyg utgår efter avslutat läger. \n\n\n\n\n\n\n\n\n\n\n\n\nÄr du SCUF:s nya lägerledare?\n\n\n\n\nSom ledare är det viktigt att du är ansvarstagande\, är bekväm med att ta hand om barn och ungdomar och är en trygg och stabil person. För att lägret ska bli så bra som möjligt är det viktigt att du som ledare förstår betydelsen av bra ledarskap och bra samarbete med övriga ledare. Utöver arbetet under själva lägret kommer du även att vara en viktig del i planeringen tillsammans med de andra ledarna. \n\n\n\n\n\n\n\n\n\n\n\n\nHuvudledare\n\n\n\n\nVi söker även två stycken huvudledare som kommer att ha extra ansvar under lägrets gång. Uppdraget innebär att du\, utöver lägerledaruppgifterna bland annat förväntas ansvara och aktivt delta i förberedelserna inför lägret\, ha koll på tider för ankomster/avgångar samt samordna ledare och deras uppdrag under lägrets gång. \nSom huvudledare bör du ha körkort och känna dig bekväm med att köra bil då ni kommer att ansvara för att köra SCUF:s hyrbil till och från lägergården samt hämta/lämna de deltagare som åker kollektivt till lägergården i Borås. \n\n\n\n\n\n\n\n\n\n\n\n\nLedarutbildning\n\n\n\n\nFör att bli ledare på SCUF:s sommarläger 2024 ska du ha möjlighet att delta på ledarutbildningen som kommer att hållas på SCUF kansli i Stockholm den 18–19 maj. Du förväntas även att vara aktiv i planeringen som sker fram tills det att lägret äger rum. \n\n\n\n\n\n\n\n\n\n\n\n\nSommarlägret 2024\n\n\n\n\nSCUF:s sommarläger 2024 äger rum den 7–13 juli på Råddehults lägergård utanför Borås. Som ledare och huvudledare behöver du vara på plats från lördagen den 6 juli till lördag den 13 juli. Mellan söndag-onsdag kommer 30 deltagare\, som sedan byts ut till 30 nya deltagare mellan onsdag-lördag att bo på lägret. Deltagarna är 7–17 år. \nSCUF står för kostnader som tillkommer rollen som lägerledare\, (exempelvis resor\, boende och mat). \n\n\n\n\n\n\n\n\n\n\n\n\nSkicka din ansökan idag!\n\n\n\n\nAnsökan skickas via formuläret nedanför. \nAnsök idag för att ha chansen att få vara med på en fantastisk resa fylld med gemenskap\, glädje och utveckling! \n\n\n\n\n\n\n\n\n\n\n\n\nÖvrigt\n\n\n\n\nI samband med din ansökan kommer vi att begära ett utdrag ur Polisens belastningsregister enligt lagen (2013:852) om registerkontroll av personer som ska arbeta med barn. Du kan redan nu beställa ett via Polisens hemsida och välja ”Registerutdrag för arbete med barn i annan verksamhet än skola och barnomsorg”. \n\n\n\n\n\n\n\n\n\n\n\n\nFrågor\n\n\n\n\nVid frågor om uppdraget kontakta SCUF:s lägerkoordinator Moa \nMail: moa.borg.renlund@scuf.se \nDina personuppgifter lagras i enlighet med GDPR – Allmänna Dataskyddsförordningen. Har du några frågor kan du maila personuppgifter@scuf.se eller läsa mer på scuf.se/medlemskap/personuppgiftshantering.
URL:https://www.scuf.se/event/bli-lagerledare-for-scufs-sommarlager/
ATTACH;FMTTYPE=image/png:https://www.scuf.se/wp-content/uploads/2024/02/Lagerledare-2024-hemsida.png
ORGANIZER;CN="SCUF":MAILTO:info@scuf.se
END:VEVENT
END:VCALENDAR