BEGIN:VCALENDAR
VERSION:2.0
PRODID:-//Scuf - ECPv6.15.11//NONSGML v1.0//EN
CALSCALE:GREGORIAN
METHOD:PUBLISH
X-WR-CALNAME:Scuf
X-ORIGINAL-URL:https://www.scuf.se
X-WR-CALDESC:Händelser för Scuf
REFRESH-INTERVAL;VALUE=DURATION:PT1H
X-Robots-Tag:noindex
X-PUBLISHED-TTL:PT1H
BEGIN:VTIMEZONE
TZID:Europe/Stockholm
BEGIN:DAYLIGHT
TZOFFSETFROM:+0100
TZOFFSETTO:+0200
TZNAME:CEST
DTSTART:20180325T010000
END:DAYLIGHT
BEGIN:STANDARD
TZOFFSETFROM:+0200
TZOFFSETTO:+0100
TZNAME:CET
DTSTART:20181028T010000
END:STANDARD
BEGIN:DAYLIGHT
TZOFFSETFROM:+0100
TZOFFSETTO:+0200
TZNAME:CEST
DTSTART:20190331T010000
END:DAYLIGHT
BEGIN:STANDARD
TZOFFSETFROM:+0200
TZOFFSETTO:+0100
TZNAME:CET
DTSTART:20191027T010000
END:STANDARD
BEGIN:DAYLIGHT
TZOFFSETFROM:+0100
TZOFFSETTO:+0200
TZNAME:CEST
DTSTART:20200329T010000
END:DAYLIGHT
BEGIN:STANDARD
TZOFFSETFROM:+0200
TZOFFSETTO:+0100
TZNAME:CET
DTSTART:20201025T010000
END:STANDARD
END:VTIMEZONE
BEGIN:VEVENT
DTSTART;TZID=Europe/Stockholm:20191207T110000
DTEND;TZID=Europe/Stockholm:20191207T130000
DTSTAMP:20260421T165629
CREATED:20191120T214540Z
LAST-MODIFIED:20191120T214540Z
UID:10279-1575716400-1575723600@www.scuf.se
SUMMARY:Anmälan stängd - Brunch på Fröjdas\, Stockholm
DESCRIPTION:[Anmälan har stängt]\nHäng med på brunch på den glutenfria\, veganska och ekologiska restaurangen Fröjdas i Stocholm!\nVi träffas på restaurangen kl.11.00 den 7/12 för att njuta av deras brunch.\nVi ser det som en liten julavslutning och hoppas att ni vill vara med! \nVi kommer på brunchen lotta ut en kasse med ett gäng glutenfria produkter till en av deltagarna. Det ända du behöver göra för att vara med i utlottningen är att delta i aktiviteten! \nNär: 11.00-13.00 den 7/12\nVar: Fröjdas\, Skeppsmäklargatan 5\, 120 69 Stockholm\nPris medlem: 0kr\nVill du ta med en familjemedlem eller kompis som är mellan 0-29år så kan de enkelt bli medlem i SCUF helt gratis!\nSista anmälningsdag: 3/12 \nLäs mer om Fröjdas på deras hemsida: https://www.frojdas.se \nUndrar du något? Skriv ett mail till stockholm@scuf.se så hjälper vi dig!\nHoppas vi ses!
URL:https://www.scuf.se/event/brunch-pa-frojdas-stockholm/
CATEGORIES:SCUF Stockholm
ORGANIZER;CN="SCUF Stockholm":MAILTO:stockholm@scuf.se
END:VEVENT
END:VCALENDAR