BEGIN:VCALENDAR
VERSION:2.0
PRODID:-//Scuf - ECPv6.15.11//NONSGML v1.0//EN
CALSCALE:GREGORIAN
METHOD:PUBLISH
X-WR-CALNAME:Scuf
X-ORIGINAL-URL:https://www.scuf.se
X-WR-CALDESC:Händelser för Scuf
REFRESH-INTERVAL;VALUE=DURATION:PT1H
X-Robots-Tag:noindex
X-PUBLISHED-TTL:PT1H
BEGIN:VTIMEZONE
TZID:Europe/Stockholm
BEGIN:DAYLIGHT
TZOFFSETFROM:+0100
TZOFFSETTO:+0200
TZNAME:CEST
DTSTART:20190331T010000
END:DAYLIGHT
BEGIN:STANDARD
TZOFFSETFROM:+0200
TZOFFSETTO:+0100
TZNAME:CET
DTSTART:20191027T010000
END:STANDARD
BEGIN:DAYLIGHT
TZOFFSETFROM:+0100
TZOFFSETTO:+0200
TZNAME:CEST
DTSTART:20200329T010000
END:DAYLIGHT
BEGIN:STANDARD
TZOFFSETFROM:+0200
TZOFFSETTO:+0100
TZNAME:CET
DTSTART:20201025T010000
END:STANDARD
BEGIN:DAYLIGHT
TZOFFSETFROM:+0100
TZOFFSETTO:+0200
TZNAME:CEST
DTSTART:20210328T010000
END:DAYLIGHT
BEGIN:STANDARD
TZOFFSETFROM:+0200
TZOFFSETTO:+0100
TZNAME:CET
DTSTART:20211031T010000
END:STANDARD
END:VTIMEZONE
BEGIN:VEVENT
DTSTART;TZID=Europe/Stockholm:20201015T170000
DTEND;TZID=Europe/Stockholm:20201015T173000
DTSTAMP:20260421T163237
CREATED:20200910T184004Z
LAST-MODIFIED:20200910T184004Z
UID:10744-1602781200-1602783000@www.scuf.se
SUMMARY:Digital frågesport genom Zoom
DESCRIPTION:Välkomna på en digital frågesport!\nVi kommer att tävla i en frågesport genom hemsidan Kahoot. \n \nVad: frågesport genom hemsidan Kahoot \nNär: torsdagen den 15 oktober klockan 17.00-17.30 \nVar: digitalt genom hemsidan Zoom \nAktiviteten är gratis! \nFör att kunna delta behövs tillgång till en dator med internetuppkoppling. Det är trevligt om du har tillgång till en mikrofon/headset för att kunna prata samt kamera om du vill visa dig (men det är absolut inget krav). \nSkriv till stockholm@scuf.se vid frågor! \nHoppas vi ”ses”!
URL:https://www.scuf.se/event/digital-fragesport-genom-zoom/
CATEGORIES:SCUF Stockholm
ORGANIZER;CN="SCUF Stockholm":MAILTO:stockholm@scuf.se
END:VEVENT
END:VCALENDAR