BEGIN:VCALENDAR
VERSION:2.0
PRODID:-//Scuf - ECPv6.15.11//NONSGML v1.0//EN
CALSCALE:GREGORIAN
METHOD:PUBLISH
X-WR-CALNAME:Scuf
X-ORIGINAL-URL:https://www.scuf.se
X-WR-CALDESC:Händelser för Scuf
REFRESH-INTERVAL;VALUE=DURATION:PT1H
X-Robots-Tag:noindex
X-PUBLISHED-TTL:PT1H
BEGIN:VTIMEZONE
TZID:Europe/Stockholm
BEGIN:DAYLIGHT
TZOFFSETFROM:+0100
TZOFFSETTO:+0200
TZNAME:CEST
DTSTART:20180325T010000
END:DAYLIGHT
BEGIN:STANDARD
TZOFFSETFROM:+0200
TZOFFSETTO:+0100
TZNAME:CET
DTSTART:20181028T010000
END:STANDARD
BEGIN:DAYLIGHT
TZOFFSETFROM:+0100
TZOFFSETTO:+0200
TZNAME:CEST
DTSTART:20190331T010000
END:DAYLIGHT
BEGIN:STANDARD
TZOFFSETFROM:+0200
TZOFFSETTO:+0100
TZNAME:CET
DTSTART:20191027T010000
END:STANDARD
BEGIN:DAYLIGHT
TZOFFSETFROM:+0100
TZOFFSETTO:+0200
TZNAME:CEST
DTSTART:20200329T010000
END:DAYLIGHT
BEGIN:STANDARD
TZOFFSETFROM:+0200
TZOFFSETTO:+0100
TZNAME:CET
DTSTART:20201025T010000
END:STANDARD
END:VTIMEZONE
BEGIN:VEVENT
DTSTART;TZID=Europe/Stockholm:20191207T133000
DTEND;TZID=Europe/Stockholm:20191207T180000
DTSTAMP:20260421T122545
CREATED:20191027T080034Z
LAST-MODIFIED:20191027T080034Z
UID:10259-1575725400-1575741600@www.scuf.se
SUMMARY:Julbak med ÖST
DESCRIPTION:Hej!\n\n\nLördagen den 7 december tänkte vi ha ett julbak i Mjölby. Vi ses på Lagmansskolans hemkunskapssal och  bakar lite gott tillsammans. \nPris: 50 kr för alla som är medlemmar i SCUF. \nPlats: Lagmansskolan i Mjölby.\n \nTid: 13.30-18
URL:https://www.scuf.se/event/julbak-med-ost/
LOCATION:Lagmansgatan 34\, 595 52 Mjölby\, Lagmansgatan 34\, Mjölby\, 595 52 Mjölby\, Sverige
CATEGORIES:SCUF Öst
ATTACH;FMTTYPE=image/png:https://www.scuf.se/wp-content/uploads/2013/12/bakning-webb.png
END:VEVENT
END:VCALENDAR