BEGIN:VCALENDAR
VERSION:2.0
PRODID:-//Scuf - ECPv6.15.11//NONSGML v1.0//EN
CALSCALE:GREGORIAN
METHOD:PUBLISH
X-WR-CALNAME:Scuf
X-ORIGINAL-URL:https://www.scuf.se
X-WR-CALDESC:Händelser för Scuf
REFRESH-INTERVAL;VALUE=DURATION:PT1H
X-Robots-Tag:noindex
X-PUBLISHED-TTL:PT1H
BEGIN:VTIMEZONE
TZID:Europe/Stockholm
BEGIN:DAYLIGHT
TZOFFSETFROM:+0100
TZOFFSETTO:+0200
TZNAME:CEST
DTSTART:20190331T010000
END:DAYLIGHT
BEGIN:STANDARD
TZOFFSETFROM:+0200
TZOFFSETTO:+0100
TZNAME:CET
DTSTART:20191027T010000
END:STANDARD
BEGIN:DAYLIGHT
TZOFFSETFROM:+0100
TZOFFSETTO:+0200
TZNAME:CEST
DTSTART:20200329T010000
END:DAYLIGHT
BEGIN:STANDARD
TZOFFSETFROM:+0200
TZOFFSETTO:+0100
TZNAME:CET
DTSTART:20201025T010000
END:STANDARD
BEGIN:DAYLIGHT
TZOFFSETFROM:+0100
TZOFFSETTO:+0200
TZNAME:CEST
DTSTART:20210328T010000
END:DAYLIGHT
BEGIN:STANDARD
TZOFFSETFROM:+0200
TZOFFSETTO:+0100
TZNAME:CET
DTSTART:20211031T010000
END:STANDARD
END:VTIMEZONE
BEGIN:VEVENT
DTSTART;TZID=Europe/Stockholm:20201212T180000
DTEND;TZID=Europe/Stockholm:20201212T200000
DTSTAMP:20260422T075654
CREATED:20201108T204138Z
LAST-MODIFIED:20201108T204138Z
UID:10776-1607796000-1607803200@www.scuf.se
SUMMARY:Julbord 12/12
DESCRIPTION:Inställt \n  \n \nNu blir det snabbt mörkare och snart går vi in i december månad. Just denna höst har tyvärr blivit lite extra grå och kanske ensam. För att komma in i julstämning har vi planerat att äta julbord tillsammans. Lördagen den 12 december kommer vi besöka Stångs Magasin i Linköping. Vi hoppas att du vill vara med! \nStångs Magasin har vidtagit åtgärder för undvika smittspridning\, men lika viktigt är att vi tar eget ansvar och följer Folkhälsomyndighetens rekommendationer. Tvätta händerna regelbundet och håll avstånd till andra människor. Vi ber dig också stanna hemma vid minsta symptom. \n150 kronor (Gäller endast medlemmar i SCUF. Vän eller anhörig som ej är medlem är varmt välkommen till självkostnads-pris) (0-29 år) \nOBS! Begränsat antal platser! Först till kvarn gäller! \nHär finns mer information om restaurangen och deras åtgärder mot Corona: Stångs Magasin
URL:https://www.scuf.se/event/julbord-12-12/
LOCATION:Stångs Magasin\, Södra Stånggatan 1\, Linköping\,  582 73
CATEGORIES:SCUF Öst
ORGANIZER;CN="SCUF %C3%96st":MAILTO:ost@scuf.se
END:VEVENT
END:VCALENDAR