BEGIN:VCALENDAR
VERSION:2.0
PRODID:-//Scuf - ECPv6.15.11//NONSGML v1.0//EN
CALSCALE:GREGORIAN
METHOD:PUBLISH
X-WR-CALNAME:Scuf
X-ORIGINAL-URL:https://www.scuf.se
X-WR-CALDESC:Händelser för Scuf
REFRESH-INTERVAL;VALUE=DURATION:PT1H
X-Robots-Tag:noindex
X-PUBLISHED-TTL:PT1H
BEGIN:VTIMEZONE
TZID:Europe/Paris
BEGIN:DAYLIGHT
TZOFFSETFROM:+0100
TZOFFSETTO:+0200
TZNAME:CEST
DTSTART:20230326T010000
END:DAYLIGHT
BEGIN:STANDARD
TZOFFSETFROM:+0200
TZOFFSETTO:+0100
TZNAME:CET
DTSTART:20231029T010000
END:STANDARD
BEGIN:DAYLIGHT
TZOFFSETFROM:+0100
TZOFFSETTO:+0200
TZNAME:CEST
DTSTART:20240331T010000
END:DAYLIGHT
BEGIN:STANDARD
TZOFFSETFROM:+0200
TZOFFSETTO:+0100
TZNAME:CET
DTSTART:20241027T010000
END:STANDARD
BEGIN:DAYLIGHT
TZOFFSETFROM:+0100
TZOFFSETTO:+0200
TZNAME:CEST
DTSTART:20250330T010000
END:DAYLIGHT
BEGIN:STANDARD
TZOFFSETFROM:+0200
TZOFFSETTO:+0100
TZNAME:CET
DTSTART:20251026T010000
END:STANDARD
END:VTIMEZONE
BEGIN:VEVENT
DTSTART;VALUE=DATE:20241005
DTEND;VALUE=DATE:20241006
DTSTAMP:20260424T010332
CREATED:20241003T093027Z
LAST-MODIFIED:20241003T093027Z
UID:17233-1728086400-1728172799@www.scuf.se
SUMMARY:Kanelbullens dag med SCUF Öst!
DESCRIPTION:Fira kanelbullens dag en dag i efterhand. De första 20 medlemmar som säger koden den 5 oktober till personalen på bageriet Vildanes Glutenfria får en gratis kanelbulle. Koden som man ska säga har skickats ut i ett mail till samtliga medlemmar. Skriv till ost@scuf.se om ni saknar mailet. \nAdress: Vildanes Glutenfria Bageri Roslingstigen 43 556 33 Jönköping\nÖppettider: lördagar 10-15 \nOBS Begränsat antal kanelbullar till 20 st\, endast en per person\, endast 5 oktober\, endast vid användande av koden i mailet. \nIngen anmälan\, först till kvarn på plats. \n\nVid frågor skriv till: ost@scuf.se
URL:https://www.scuf.se/event/kanelbullens-dag-med-scuf-ost/
LOCATION:Vildanes Glutenfria Bageri Roslingstigen 43 556 33 Jönköping
ATTACH;FMTTYPE=image/jpeg:https://www.scuf.se/wp-content/uploads/2024/10/Mat-for-livet-2022-1.jpeg
ORGANIZER;CN="SCUF %C3%96st":MAILTO:ost@scuf.se
END:VEVENT
END:VCALENDAR