BEGIN:VCALENDAR
VERSION:2.0
PRODID:-//Scuf - ECPv6.15.11//NONSGML v1.0//EN
CALSCALE:GREGORIAN
METHOD:PUBLISH
X-WR-CALNAME:Scuf
X-ORIGINAL-URL:https://www.scuf.se
X-WR-CALDESC:Händelser för Scuf
REFRESH-INTERVAL;VALUE=DURATION:PT1H
X-Robots-Tag:noindex
X-PUBLISHED-TTL:PT1H
BEGIN:VTIMEZONE
TZID:Europe/Paris
BEGIN:DAYLIGHT
TZOFFSETFROM:+0100
TZOFFSETTO:+0200
TZNAME:CEST
DTSTART:20220327T010000
END:DAYLIGHT
BEGIN:STANDARD
TZOFFSETFROM:+0200
TZOFFSETTO:+0100
TZNAME:CET
DTSTART:20221030T010000
END:STANDARD
BEGIN:DAYLIGHT
TZOFFSETFROM:+0100
TZOFFSETTO:+0200
TZNAME:CEST
DTSTART:20230326T010000
END:DAYLIGHT
BEGIN:STANDARD
TZOFFSETFROM:+0200
TZOFFSETTO:+0100
TZNAME:CET
DTSTART:20231029T010000
END:STANDARD
BEGIN:DAYLIGHT
TZOFFSETFROM:+0100
TZOFFSETTO:+0200
TZNAME:CEST
DTSTART:20240331T010000
END:DAYLIGHT
BEGIN:STANDARD
TZOFFSETFROM:+0200
TZOFFSETTO:+0100
TZNAME:CET
DTSTART:20241027T010000
END:STANDARD
END:VTIMEZONE
BEGIN:VEVENT
DTSTART;TZID=Europe/Paris:20231111T110000
DTEND;TZID=Europe/Paris:20231111T110000
DTSTAMP:20260420T215531
CREATED:20230911T075522Z
LAST-MODIFIED:20230911T075522Z
UID:16267-1699700400-1699700400@www.scuf.se
SUMMARY:Kolmården med SCUF Stockholm och SCUF Öst
DESCRIPTION:Välkommen till en rolig aktivitet tillsammans på djurparken Kolmården utanför Norrköping. Under Halloween på Kolmården finns det mycket roligt att upptäcka\, för att läsa mer se: https://www.kolmarden.com/halloween \nVi kollar gemensamt på Delfinföreställningen Under Ytan och för de som vill går vi gemensamt till Skräckhuset. Under dagen kommer vi även att ha en samling för att skapa gemenskap mellan SCUF:s medlemmar\, tiden för detta meddelas de som anmäler sig. \n\nDatum: lördagen den 11 november\nTid: samling utanför entrén klockan 11.00\nSista anmälningsdag: fredagen den 20 oktober\nPris för medlem: gratis\n\nIcke-medlem ansvarar själv för att köpa entré via kolmården.se \nÄr du medlem i SCUF Stockholm? Anmäla dig här \nÄr du medlem i SCUF Öst? Anmäla dig här \nVid frågor skriv till ost@scuf.se eller stockholm@scuf.se \nHoppas vi ses!
URL:https://www.scuf.se/event/kolmarden-med-scuf-stockholm-och-scuf-ost/
LOCATION:Kolmårdens djurpark\, Kolmården\, Sverige
ATTACH;FMTTYPE=image/jpeg:https://www.scuf.se/wp-content/uploads/2023/09/IMG_7036.jpg
ORGANIZER;CN="SCUF Stockholm":MAILTO:stockholm@scuf.se
END:VEVENT
END:VCALENDAR