BEGIN:VCALENDAR
VERSION:2.0
PRODID:-//Scuf - ECPv6.15.11//NONSGML v1.0//EN
CALSCALE:GREGORIAN
METHOD:PUBLISH
X-WR-CALNAME:Scuf
X-ORIGINAL-URL:https://www.scuf.se
X-WR-CALDESC:Händelser för Scuf
REFRESH-INTERVAL;VALUE=DURATION:PT1H
X-Robots-Tag:noindex
X-PUBLISHED-TTL:PT1H
BEGIN:VTIMEZONE
TZID:Europe/Stockholm
BEGIN:DAYLIGHT
TZOFFSETFROM:+0100
TZOFFSETTO:+0200
TZNAME:CEST
DTSTART:20180325T010000
END:DAYLIGHT
BEGIN:STANDARD
TZOFFSETFROM:+0200
TZOFFSETTO:+0100
TZNAME:CET
DTSTART:20181028T010000
END:STANDARD
BEGIN:DAYLIGHT
TZOFFSETFROM:+0100
TZOFFSETTO:+0200
TZNAME:CEST
DTSTART:20190331T010000
END:DAYLIGHT
BEGIN:STANDARD
TZOFFSETFROM:+0200
TZOFFSETTO:+0100
TZNAME:CET
DTSTART:20191027T010000
END:STANDARD
BEGIN:DAYLIGHT
TZOFFSETFROM:+0100
TZOFFSETTO:+0200
TZNAME:CEST
DTSTART:20200329T010000
END:DAYLIGHT
BEGIN:STANDARD
TZOFFSETFROM:+0200
TZOFFSETTO:+0100
TZNAME:CET
DTSTART:20201025T010000
END:STANDARD
END:VTIMEZONE
BEGIN:VEVENT
DTSTART;TZID=Europe/Stockholm:20191116T070000
DTEND;TZID=Europe/Stockholm:20191116T220000
DTSTAMP:20260421T202830
CREATED:20191013T154809Z
LAST-MODIFIED:20191013T154809Z
UID:10223-1573887600-1573941600@www.scuf.se
SUMMARY:Mat för livet-mässan den 16/11 ÖST
DESCRIPTION:Hej!\nNu är det dags för Mat för livet-mässan i Stockholm. En av årets höjdpunkter för oss med celiaki där vi kan provsmaka nyheter och köpa spännande produkter.  I år åker vi tillsammans med celiakiföreningen i Jönköping på en bussresa för att besöka mässan\, lördag 16 november. \nDeltagaravgift\n200kr för alla som är medlemmar i SCUF/SCF. I priset ingår buss\, inträde samt mat på hemvägen. \nAnmälan\nVia formuläret längst ner på sidan. Sista anmälningsdag 11 november.\, \nBusstidtabell\nBusstiden är ca tider. \nJÖNKÖPING A6 GLASPYRAMIDEN 07\,00\nMJÖLBY RESECENTRUM KL 08\,00\nLINKÖPING RESECENTRUM 8\,25\nNORRKÖPING RESECENTRUM 08\,55 \nANKOMST CA KL 12\,00 \nHEMRESA KL 16\,30 \nMAT CA 18.00 \nHEMKOMST (Jönköping): 22.00
URL:https://www.scuf.se/event/mat-for-livet-massan-den-16-11-ost/
LOCATION:Kista Mässan\, Torshamnsgatan 18\, Kista\, 164 40
CATEGORIES:SCUF Öst
ATTACH;FMTTYPE=image/jpeg:https://www.scuf.se/wp-content/uploads/2018/11/mfl-2018-1.jpg
END:VEVENT
END:VCALENDAR