BEGIN:VCALENDAR
VERSION:2.0
PRODID:-//Scuf - ECPv6.15.11//NONSGML v1.0//EN
CALSCALE:GREGORIAN
METHOD:PUBLISH
X-WR-CALNAME:Scuf
X-ORIGINAL-URL:https://www.scuf.se
X-WR-CALDESC:Händelser för Scuf
REFRESH-INTERVAL;VALUE=DURATION:PT1H
X-Robots-Tag:noindex
X-PUBLISHED-TTL:PT1H
BEGIN:VTIMEZONE
TZID:Europe/Stockholm
BEGIN:DAYLIGHT
TZOFFSETFROM:+0100
TZOFFSETTO:+0200
TZNAME:CEST
DTSTART:20190331T010000
END:DAYLIGHT
BEGIN:STANDARD
TZOFFSETFROM:+0200
TZOFFSETTO:+0100
TZNAME:CET
DTSTART:20191027T010000
END:STANDARD
BEGIN:DAYLIGHT
TZOFFSETFROM:+0100
TZOFFSETTO:+0200
TZNAME:CEST
DTSTART:20200329T010000
END:DAYLIGHT
BEGIN:STANDARD
TZOFFSETFROM:+0200
TZOFFSETTO:+0100
TZNAME:CET
DTSTART:20201025T010000
END:STANDARD
BEGIN:DAYLIGHT
TZOFFSETFROM:+0100
TZOFFSETTO:+0200
TZNAME:CEST
DTSTART:20210328T010000
END:DAYLIGHT
BEGIN:STANDARD
TZOFFSETFROM:+0200
TZOFFSETTO:+0100
TZNAME:CET
DTSTART:20211031T010000
END:STANDARD
END:VTIMEZONE
BEGIN:VEVENT
DTSTART;TZID=Europe/Stockholm:20200220T160000
DTEND;TZID=Europe/Stockholm:20200220T160000
DTSTAMP:20260420T114129
CREATED:20200123T121916Z
LAST-MODIFIED:20200123T121916Z
UID:10417-1582214400-1582214400@www.scuf.se
SUMMARY:Medlemsföreningsårsmöte och fika med SCUF Västerbotten!
DESCRIPTION:Hej! \nDen 20 februari är medlemmar i SCUF Västerbotten varmt välkomna på medlemsföreningsårsmöte och fika! På medlemsföreningsårsmötet får ni möjlighet att påverka SCUF Västerbottens framtid det kommande verksamhetsåret. \nDet är medlemmarna som bestämmer vad vår verksamhet ska vara. Därför är du viktig för oss och dina åsikter betyder mycket! \nI samband med mötet kommer vi även att fika. Vårdnadshavare får följa med\, men det är endast medlemmar som har yttrande\, förslags och rösträtt på mötet. \nVAD? Medlemsföreningsårsmöte och fika med SCUF Västerbotten \nVAR? Umeå universitet\, 901 87 Umeå \nTID? 20 februari kl 16 \nVarmt välkomna att anmäla er nedan. \nHar du frågor om medlemsföreningsårsmötet eller om engagemang i föreningen? Kontakta vasterbotten@scuf.se  \nMed vänliga hälsningar\, styrelsen SCUF Västerbotten
URL:https://www.scuf.se/event/medlemsforeningsarsmote-och-fika-med-scuf-vasterbotten/
LOCATION:Umeå universitet\, 901 87 Umeå
CATEGORIES:SCUF Västerbotten
END:VEVENT
END:VCALENDAR