BEGIN:VCALENDAR
VERSION:2.0
PRODID:-//Scuf - ECPv6.15.11//NONSGML v1.0//EN
CALSCALE:GREGORIAN
METHOD:PUBLISH
X-WR-CALNAME:Scuf
X-ORIGINAL-URL:https://www.scuf.se
X-WR-CALDESC:Händelser för Scuf
REFRESH-INTERVAL;VALUE=DURATION:PT1H
X-Robots-Tag:noindex
X-PUBLISHED-TTL:PT1H
BEGIN:VTIMEZONE
TZID:Europe/Paris
BEGIN:DAYLIGHT
TZOFFSETFROM:+0100
TZOFFSETTO:+0200
TZNAME:CEST
DTSTART:20220327T010000
END:DAYLIGHT
BEGIN:STANDARD
TZOFFSETFROM:+0200
TZOFFSETTO:+0100
TZNAME:CET
DTSTART:20221030T010000
END:STANDARD
BEGIN:DAYLIGHT
TZOFFSETFROM:+0100
TZOFFSETTO:+0200
TZNAME:CEST
DTSTART:20230326T010000
END:DAYLIGHT
BEGIN:STANDARD
TZOFFSETFROM:+0200
TZOFFSETTO:+0100
TZNAME:CET
DTSTART:20231029T010000
END:STANDARD
BEGIN:DAYLIGHT
TZOFFSETFROM:+0100
TZOFFSETTO:+0200
TZNAME:CEST
DTSTART:20240331T010000
END:DAYLIGHT
BEGIN:STANDARD
TZOFFSETFROM:+0200
TZOFFSETTO:+0100
TZNAME:CET
DTSTART:20241027T010000
END:STANDARD
END:VTIMEZONE
BEGIN:VEVENT
DTSTART;TZID=Europe/Paris:20231125T150000
DTEND;TZID=Europe/Paris:20231125T170000
DTSTAMP:20260421T013709
CREATED:20231109T141043Z
LAST-MODIFIED:20231109T141309Z
UID:16407-1700924400-1700931600@www.scuf.se
SUMMARY:Öppet styrelsemöte med SCUF Stockholm
DESCRIPTION:SCUF Stockholm välkomnar dig att delta på ett öppet styrelsemöte. \nÄr du nyfiken på hur det är att sitta i en styrelse eller hur ett styrelsemöte går till? Du kanske till och med är sugen på att kandidera till styrelsen 2024? Då är detta en suverän möjlighet att få en inblick i arbetet. Den 25 november är nämligen du välkommen att delta på ett av styrelsens möten. Vi bjuder på fika och kommer bland annat diskutera framtida aktiviteter och årsmötet 2024. \nNär: 25 november\nTid: 15.00-17.00\nVart: Norr Mälarstrand 24 eller digitalt\nVem kan delta: Medlem i SCUF-Stockholm mellan 15-29\nAnmälan: https://docs.google.com/forms/d/1mVQNU3Kdelo4zePS5CmsxVUXDjEUl2BwCvna9UEMSSo/viewform?edit_requested=true\nSista anmälningsdag: 23 november \nVälkommen!
URL:https://www.scuf.se/event/oppet-styrelsemote-med-scuf-stockholm/
LOCATION:norr mälarstrand 24
ATTACH;FMTTYPE=image/jpeg:https://www.scuf.se/wp-content/uploads/2023/11/image_6483441.jpg
ORGANIZER;CN="SCUF Stockholm":MAILTO:stockholm@scuf.se
END:VEVENT
END:VCALENDAR