BEGIN:VCALENDAR
VERSION:2.0
PRODID:-//Scuf - ECPv6.15.11//NONSGML v1.0//EN
CALSCALE:GREGORIAN
METHOD:PUBLISH
X-WR-CALNAME:Scuf
X-ORIGINAL-URL:https://www.scuf.se
X-WR-CALDESC:Händelser för Scuf
REFRESH-INTERVAL;VALUE=DURATION:PT1H
X-Robots-Tag:noindex
X-PUBLISHED-TTL:PT1H
BEGIN:VTIMEZONE
TZID:Europe/Paris
BEGIN:DAYLIGHT
TZOFFSETFROM:+0100
TZOFFSETTO:+0200
TZNAME:CEST
DTSTART:20230326T010000
END:DAYLIGHT
BEGIN:STANDARD
TZOFFSETFROM:+0200
TZOFFSETTO:+0100
TZNAME:CET
DTSTART:20231029T010000
END:STANDARD
BEGIN:DAYLIGHT
TZOFFSETFROM:+0100
TZOFFSETTO:+0200
TZNAME:CEST
DTSTART:20240331T010000
END:DAYLIGHT
BEGIN:STANDARD
TZOFFSETFROM:+0200
TZOFFSETTO:+0100
TZNAME:CET
DTSTART:20241027T010000
END:STANDARD
BEGIN:DAYLIGHT
TZOFFSETFROM:+0100
TZOFFSETTO:+0200
TZNAME:CEST
DTSTART:20250330T010000
END:DAYLIGHT
BEGIN:STANDARD
TZOFFSETFROM:+0200
TZOFFSETTO:+0100
TZNAME:CET
DTSTART:20251026T010000
END:STANDARD
END:VTIMEZONE
BEGIN:VEVENT
DTSTART;TZID=Europe/Paris:20240907T120000
DTEND;TZID=Europe/Paris:20240907T150000
DTSTAMP:20260424T005724
CREATED:20240812T083650Z
LAST-MODIFIED:20240814T122340Z
UID:17122-1725710400-1725721200@www.scuf.se
SUMMARY:Picknick i Hagaparken med SCUF & Celiakiföreningen Stockholm
DESCRIPTION:Vi vill välkomna SCUF och Celiakiföreningens medlemmar till picknick i Hagaparken lördagen den 7 September klockan 12:00. Det kommer att bjudas på frallor från Malvas glutenfria hantverksbageri och muffins från Fria\, men ta med er egen dryck. Om ni önskar något mer att äta så får ni gärna ta med er det också. \nMellan 12:00 och 15:00 är vi från SCUF och Celiakiföreningen på plats\, men självklart får man stanna kvar längre om så önskas. \nGratis för medlemmar \nNär: 7:e September\nVart: Haga Södra Grindar\, Hagaparken Solna\nÅlder: Alla åldrar är välkomna\nTa med: Filt/något att sitta på samt eventuell dryck om så önskas. \nBegränsat antal platser! Sista anmälningsdag: 31:a augusti \nTill anmälan
URL:https://www.scuf.se/event/picknick-i-hagaparken-med-scuf-celiakiforeningen-stockholm/
LOCATION:Haga Södra Grindar\, Hagaparken Solna
ATTACH;FMTTYPE=image/png:https://www.scuf.se/wp-content/uploads/2024/08/unnamed.png
ORGANIZER;CN="SCUF Stockholm":MAILTO:stockholm@scuf.se
END:VEVENT
END:VCALENDAR