BEGIN:VCALENDAR
VERSION:2.0
PRODID:-//Scuf - ECPv6.15.11//NONSGML v1.0//EN
CALSCALE:GREGORIAN
METHOD:PUBLISH
X-WR-CALNAME:Scuf
X-ORIGINAL-URL:https://www.scuf.se
X-WR-CALDESC:Händelser för Scuf
REFRESH-INTERVAL;VALUE=DURATION:PT1H
X-Robots-Tag:noindex
X-PUBLISHED-TTL:PT1H
BEGIN:VTIMEZONE
TZID:Europe/Stockholm
BEGIN:DAYLIGHT
TZOFFSETFROM:+0100
TZOFFSETTO:+0200
TZNAME:CEST
DTSTART:20190331T010000
END:DAYLIGHT
BEGIN:STANDARD
TZOFFSETFROM:+0200
TZOFFSETTO:+0100
TZNAME:CET
DTSTART:20191027T010000
END:STANDARD
BEGIN:DAYLIGHT
TZOFFSETFROM:+0100
TZOFFSETTO:+0200
TZNAME:CEST
DTSTART:20200329T010000
END:DAYLIGHT
BEGIN:STANDARD
TZOFFSETFROM:+0200
TZOFFSETTO:+0100
TZNAME:CET
DTSTART:20201025T010000
END:STANDARD
BEGIN:DAYLIGHT
TZOFFSETFROM:+0100
TZOFFSETTO:+0200
TZNAME:CEST
DTSTART:20210328T010000
END:DAYLIGHT
BEGIN:STANDARD
TZOFFSETFROM:+0200
TZOFFSETTO:+0100
TZNAME:CET
DTSTART:20211031T010000
END:STANDARD
END:VTIMEZONE
BEGIN:VEVENT
DTSTART;VALUE=DATE:20200720
DTEND;VALUE=DATE:20200727
DTSTAMP:20260421T131725
CREATED:20200127T103503Z
LAST-MODIFIED:20200127T103503Z
UID:10447-1595203200-1595807999@www.scuf.se
SUMMARY:*INSTÄLLT* Sommarläger 2020
DESCRIPTION:På grund av den rådande situationen med covid-19 har sommarlägret 2020 tyvärr ställts in. Vid frågor kontakta kansli@scuf.se.\nVälkommen till SCUF:s sommarläger för barn och unga mellan 7-17 år. Ett glutenfritt sommarläger där barn och unga med celiaki kan träffas\, dela erfarenheter och ha kul tillsammans. Ingen behöver oroa sig över maten eller känna sig utanför. Det här är ett läger med massor av glädje och gemenskap! \nPlats\nUskavigården i Nora\, Örebro län. \nDatum\n\n20-23 juli – deltagare 7-12 år\n23-26 juli – deltagare 13-17 år\n\nVem kan delta?\nDu som är mellan 7-17 år och medlem i Svenska Celiakiungdomsförbundet (SCUF). Allting på lägret kommer att vara glutenfritt och har du andra allergier och intoleranser tar vi såklart hänsyn till dem! \nKostnad\nDeltagaravgiften är 1300 kr. \nSCUF vill att alla ska kunna delta på vårt sommarläger\, oavsett ekonomiska förutsättningar. Därför finns möjligheten att få ett bidrag av SCUF\, motsvarande kostnaden för deltagaravgiften. Hör av dig om du är intresserad av detta\, se kontaktuppgifter nedan. \nResor\nDet kommer finnas möjlighet till hämtning och lämning vid närliggande tågstation. Mer information kommer. \nFrågor?\nDu är varmt välkommen att kontakta SCUF:s kansli \nkansli@scuf.se\n0735- 95 33 46 \nAnmälan\nAnmälan till årets sommarläger görs via formuläret nedan. \n\nFilm från SCUF:s sommarläger\n \nom SCUF:s läger
URL:https://www.scuf.se/event/sommarlager-2020/
LOCATION:Uskavigården\, Tre Sjöars Väg\, \, Nora\, 71394\, Sverige
ATTACH;FMTTYPE=:
ORGANIZER;CN="SCUF":MAILTO:info@scuf.se
END:VEVENT
END:VCALENDAR