BEGIN:VCALENDAR
VERSION:2.0
PRODID:-//Scuf - ECPv6.15.11//NONSGML v1.0//EN
CALSCALE:GREGORIAN
METHOD:PUBLISH
X-WR-CALNAME:Scuf
X-ORIGINAL-URL:https://www.scuf.se
X-WR-CALDESC:Händelser för Scuf
REFRESH-INTERVAL;VALUE=DURATION:PT1H
X-Robots-Tag:noindex
X-PUBLISHED-TTL:PT1H
BEGIN:VTIMEZONE
TZID:Europe/Paris
BEGIN:DAYLIGHT
TZOFFSETFROM:+0100
TZOFFSETTO:+0200
TZNAME:CEST
DTSTART:20230326T010000
END:DAYLIGHT
BEGIN:STANDARD
TZOFFSETFROM:+0200
TZOFFSETTO:+0100
TZNAME:CET
DTSTART:20231029T010000
END:STANDARD
BEGIN:DAYLIGHT
TZOFFSETFROM:+0100
TZOFFSETTO:+0200
TZNAME:CEST
DTSTART:20240331T010000
END:DAYLIGHT
BEGIN:STANDARD
TZOFFSETFROM:+0200
TZOFFSETTO:+0100
TZNAME:CET
DTSTART:20241027T010000
END:STANDARD
BEGIN:DAYLIGHT
TZOFFSETFROM:+0100
TZOFFSETTO:+0200
TZNAME:CEST
DTSTART:20250330T010000
END:DAYLIGHT
BEGIN:STANDARD
TZOFFSETFROM:+0200
TZOFFSETTO:+0100
TZNAME:CET
DTSTART:20251026T010000
END:STANDARD
END:VTIMEZONE
BEGIN:VEVENT
DTSTART;VALUE=DATE:20240118
DTEND;VALUE=DATE:20240122
DTSTAMP:20260421T080406
CREATED:20231027T105324Z
LAST-MODIFIED:20231123T090557Z
UID:16383-1705536000-1705881599@www.scuf.se
SUMMARY:Vinterläger 2024!
DESCRIPTION:Välkommen på vinterläger!\n\n\n\n\n\n\n\n\n\n\n\n\nI januari 2024 kommer SCUF att arrangera ett vinterläger i Kläppen för 16 deltagare och 4 ledare. Under en långhelg kommer du få lära känna vänner från hela Sverige\, umgås\, äta god glutenfri mat\, åka massor av skidor och göra andra roliga aktiviteter. Det är en resa du inte vill missa! \n\n\n\n\n\n\n\n\n\n\n\n\nOm lägerdagarna\n\n\n\n\n\n\n\n\n\n\n\n\nFrån torsdagen den 18 januari till söndagen den 21 januari kommer du och ungdomar från hela Sverige kunna susa ner för backarna i Kläppen. Lägret kommer att inkludera aktiviteter\, mat\, liftkort\, transport till och från Kläppen samt boende. Vi kommer att samlas på Stockholms centralstation torsdagen den 18 januari för att gemensamt åka buss till Kläppen. Ni ansvarar själva för att ta er till Stockholms centralstation i tid för den gemensamma transporten (exakt tid för bussen kommer). \nFrukost\, lunch och middag serveras i stugorna. På dagarna njuter vi av åkningen och på kvällarna anordnas roliga aktiviteter! \nVill du hyra skid- eller snowboardutrustning gör du detta själv här eller direkt på plats i Kläppen (notera att om du väljer att boka i förväg så behöver du göra detta minst tre dagar innan ankomst). Om du har möjlighet så rekommenderar vi att förboka i största möjliga mån. Åkdagar är fredag den 19 januari och lördag den 20 januari. \n\n\n\n\n\n\n\n\n\n\n\n\nDatum\n\n\n\n\n\n\n\n\n\n\n\n\nLägret är från torsdag 18 januari till söndag 21 januari 2024. \n\n\n\n\n\n\n\n\n\n\n\n\nBoende\n\n\n\n\n\n\n\n\n\n\n\n\nTorsdag – söndag sover vi i två stugor som ligger ca 50-200 meter till transportliften som tar oss till backarna. Stugorna kommer dessutom med varsin utomhusjacuzzi. \n\n\n\n\n\n\n\n\n\n\n\n\nResor\n\n\n\n\n\n\n\n\n\n\n\n\nVi möts på förmiddagen på Stockholms centralstation torsdagen den 18 januari och tar gemensamt buss som tar oss direkt till Kläppen (om du väljer att möta oss i Kläppen istället för Stockholms central måste detta meddelas i samband med anmälan). Vi är tillbaka i Stockholm igen på söndagskvällen den 21 januari. Till och från Stockholm centralstation tar du dig på egen hand. \n\n\n\n\n\n\n\n\n\n\n\n\nKostnad\n\n\n\n\n\n\n\n\n\n\n\n\nDeltagaravgiften är 1500 kr\, i det ingår:\n● Boende\n● Transport mellan Stockholm och Kläppen\n● Mat och fika\n● Liftkort\n● Övriga aktiviteter\n● Profilmaterial \nPris för att hyra skidor ingår inte i deltagaravgiften. \nSCUF vill att alla barn och unga ska få möjlighet att åka på våra läger. Vill du/dina barn åka på SCUF:s läger men saknar pengar till det? Ibland kan SCUF hjälpa till att betala deltagaravgiften. Hör av dig så hjälper vi till. \n\n\n\n\n\n\n\n\n\n\n\n\nVem kan delta?\n\n\n\n\n\n\n\n\n\n\n\n\nMedlemmar mellan 15-29 år (om du inte är det kan du anmäla dig på: https://www.scuf.se/medlemskap/bli-medlem/) \n\n\n\n\n\n\n\n\n\n\n\n\nAnordnare och kontaktpersoner\n\n\n\n\n\n\n\n\n\n\n\n\nVid frågor om lägret kontakta Isabella Browall\, verksamhetsutvecklare på Svenska Celiakiungdomsförbundet på isabella.browall@scuf.se eller ring oss mellan 09.00-16.00 på 073 595 33 46. \nMer praktisk information skickas med bekräftelsen om du har fått plats på lägret. Bekräftelsen kommer 3-4 arbetsdagar efter att anmälan har stängts. \nVi återkommer så snart som möjligt med svar på om du har fått en plats på lägret. \nMed vänliga hälsningar\, \nSCUF kansli
URL:https://www.scuf.se/event/vinterlager-2024/
ATTACH;FMTTYPE=image/png:https://www.scuf.se/wp-content/uploads/2023/09/vinterlager-2024.png
ORGANIZER;CN="SCUF":MAILTO:info@scuf.se
END:VEVENT
END:VCALENDAR