BEGIN:VCALENDAR
VERSION:2.0
PRODID:-//Scuf - ECPv6.15.11//NONSGML v1.0//EN
CALSCALE:GREGORIAN
METHOD:PUBLISH
X-WR-CALNAME:Scuf
X-ORIGINAL-URL:https://www.scuf.se
X-WR-CALDESC:Händelser för Scuf
REFRESH-INTERVAL;VALUE=DURATION:PT1H
X-Robots-Tag:noindex
X-PUBLISHED-TTL:PT1H
BEGIN:VTIMEZONE
TZID:Europe/Paris
BEGIN:DAYLIGHT
TZOFFSETFROM:+0100
TZOFFSETTO:+0200
TZNAME:CEST
DTSTART:20240331T010000
END:DAYLIGHT
BEGIN:STANDARD
TZOFFSETFROM:+0200
TZOFFSETTO:+0100
TZNAME:CET
DTSTART:20241027T010000
END:STANDARD
BEGIN:DAYLIGHT
TZOFFSETFROM:+0100
TZOFFSETTO:+0200
TZNAME:CEST
DTSTART:20250330T010000
END:DAYLIGHT
BEGIN:STANDARD
TZOFFSETFROM:+0200
TZOFFSETTO:+0100
TZNAME:CET
DTSTART:20251026T010000
END:STANDARD
BEGIN:DAYLIGHT
TZOFFSETFROM:+0100
TZOFFSETTO:+0200
TZNAME:CEST
DTSTART:20260329T010000
END:DAYLIGHT
BEGIN:STANDARD
TZOFFSETFROM:+0200
TZOFFSETTO:+0100
TZNAME:CET
DTSTART:20261025T010000
END:STANDARD
END:VTIMEZONE
BEGIN:VEVENT
DTSTART;TZID=Europe/Paris:20250608T140000
DTEND;TZID=Europe/Paris:20250608T160000
DTSTAMP:20260424T044838
CREATED:20250527T084452Z
LAST-MODIFIED:20250527T084452Z
UID:18024-1749391200-1749398400@www.scuf.se
SUMMARY:Picknick i Sundsvall med SCUF Mitt
DESCRIPTION:  Följ med SCUF Öst på Liseberg!   Lördagen den 13 september är det äntligen dags för den årliga Lisebergs resan!    Vi åker tillsammans buss till Göteborg och spenderar där en rolig dag på nöjesfältet Liseberg. På bussen och under dagen har vi möjlighet att umgås och dela erfarenheter om att ha celiaki.    Tidigare år har det varit först till kvarn som gäller. Men för att ge chansen till alla att få följa med kommer vi i år ge platserna först och främst till deltagare som inte fick chansen att följa med förra året. Övriga hamnar på en reservlista utifall att platserna inte fylls eller eventuella avhopp.    Anmälan sker via detta formulär   Kostnad: 0 kr för medlemmar. I det ingår bussresa\, entré och åkband. Icke-medlem får betala självkostnadspris\, och ansvarar själva för att köpa entré/åkband. (Bussresan är gratis för alla). Kompisar eller syskon som är mellan 0-29 år kan bli medlemmar i SCUF och därmed följa med på resan gratis.    Frågor: ost@scuf.se
URL:https://www.scuf.se/event/picknick-i-sundsvall-med-scuf-mitt/
ATTACH;FMTTYPE=image/png:https://www.scuf.se/wp-content/uploads/2025/05/Picknick-Sundsvall.png
ORGANIZER;CN="SCUF Stockholm":MAILTO:stockholm@scuf.se
END:VEVENT
END:VCALENDAR